BEGIN:VCALENDAR
PRODID:-//eluceo/ical//2.0/EN
VERSION:2.0
CALSCALE:GREGORIAN
BEGIN:VEVENT
UID:0c03cedb59201a1e866b277e7117d2f0
DTSTAMP:20260423T043400Z
SUMMARY:Veterans Day
DESCRIPTION:Jewish Federation of Central Massachusetts\nCalendar\nhttps://j
 ewishcentralmass.org/calendar/18cal172\n\nVeterans Day
DTSTART;TZID=America/New_York:20171111T000100
DTEND;TZID=America/New_York:20171111T235900
END:VEVENT
END:VCALENDAR
