BEGIN:VCALENDAR
PRODID:-//eluceo/ical//2.0/EN
VERSION:2.0
CALSCALE:GREGORIAN
BEGIN:VEVENT
UID:51534a69791c6c1b007863948f3d2923
DTSTAMP:20260422T044956Z
SUMMARY:Congregation B'nai Shalom 9th Grade NY Trip
DESCRIPTION:Jewish Federation of Central Massachusetts\nCalendar\nhttps://j
 ewishcentralmass.org/calendar/18cal171\n\nCongregation B'nai Shalom 9th Gr
 ade NY Trip
DTSTART;TZID=America/New_York:20171110T000100
DTEND;TZID=America/New_York:20171110T235900
END:VEVENT
END:VCALENDAR
