BEGIN:VCALENDAR
PRODID:-//eluceo/ical//2.0/EN
VERSION:2.0
CALSCALE:GREGORIAN
BEGIN:VEVENT
UID:c9c5ad4371dd67bb1f69bf8f144269b2
DTSTAMP:20260423T055827Z
SUMMARY:Beth Tikvah Board Meeting
DESCRIPTION:Jewish Federation of Central Massachusetts\nCalendar\nhttps://j
 ewishcentralmass.org/calendar/18cal170\n\nBeth Tikvah Board Meeting
DTSTART;TZID=America/New_York:20171108T190000
DTEND;TZID=America/New_York:20171108T210000
END:VEVENT
END:VCALENDAR
