BEGIN:VCALENDAR
PRODID:-//eluceo/ical//2.0/EN
VERSION:2.0
CALSCALE:GREGORIAN
BEGIN:VEVENT
UID:2d672d20cea21fddfd46e06f3f3e4dd2
DTSTAMP:20260422T064014Z
SUMMARY:Jewish Federation of Central Mass Board Meeting
DESCRIPTION:Jewish Federation of Central Massachusetts\nCalendar\nhttps://j
 ewishcentralmass.org/calendar/18cal169\n\nJewish Federation of Central Mas
 s Board Meeting
DTSTART;TZID=America/New_York:20171107T193000
DTEND;TZID=America/New_York:20171107T210000
END:VEVENT
END:VCALENDAR
