BEGIN:VCALENDAR
PRODID:-//eluceo/ical//2.0/EN
VERSION:2.0
CALSCALE:GREGORIAN
BEGIN:VEVENT
UID:c827edc861240f456a1d77d4da2ad8e7
DTSTAMP:20260422T034022Z
SUMMARY:PJ Library @ Beth Tikvah
DESCRIPTION:Jewish Federation of Central Massachusetts\nCalendar\nhttps://j
 ewishcentralmass.org/calendar/18cal168\n\nPJ Library @ Beth Tikvah
DTSTART;TZID=America/New_York:20171105T093000
DTEND;TZID=America/New_York:20171105T110000
END:VEVENT
END:VCALENDAR
