BEGIN:VCALENDAR
PRODID:-//eluceo/ical//2.0/EN
VERSION:2.0
CALSCALE:GREGORIAN
BEGIN:VEVENT
UID:29f8c62304d6651733ef7adc4acf5530
DTSTAMP:20260422T232723Z
SUMMARY:JFCM Chaverim Event
DESCRIPTION:Jewish Federation of Central Massachusetts\nCalendar\nhttps://j
 ewishcentralmass.org/calendar/18cal166\n\nJFCM Chaverim Escape the Room
DTSTART;TZID=America/New_York:20171104T183000
DTEND;TZID=America/New_York:20171104T210000
END:VEVENT
END:VCALENDAR
