BEGIN:VCALENDAR
PRODID:-//eluceo/ical//2.0/EN
VERSION:2.0
CALSCALE:GREGORIAN
BEGIN:VEVENT
UID:9b098e98e3c6b249a3a0254537591d5e
DTSTAMP:20260423T171513Z
SUMMARY:SUPER SUNDAY
DESCRIPTION:Jewish Federation of Central Massachusetts\nCalendar\nhttps://j
 ewishcentralmass.org/calendar/18cal165\n\nSUPER SUNDAY
DTSTART;TZID=America/New_York:20171029T090000
DTEND;TZID=America/New_York:20171029T140000
END:VEVENT
END:VCALENDAR
