BEGIN:VCALENDAR
PRODID:-//eluceo/ical//2.0/EN
VERSION:2.0
CALSCALE:GREGORIAN
BEGIN:VEVENT
UID:3e19e477cb95c1291ab3c460cfddbe38
DTSTAMP:20260423T184437Z
SUMMARY:Jewish Community Center Board Meeting
DESCRIPTION:Jewish Federation of Central Massachusetts\nCalendar\nhttps://j
 ewishcentralmass.org/calendar/18cal164\n\nJewish Community Center Board Me
 eting
DTSTART;TZID=America/New_York:20171026T193000
DTEND;TZID=America/New_York:20171026T210000
END:VEVENT
END:VCALENDAR
