BEGIN:VCALENDAR
PRODID:-//eluceo/ical//2.0/EN
VERSION:2.0
CALSCALE:GREGORIAN
BEGIN:VEVENT
UID:3fc51f38889d1840e238f28d4cb3a916
DTSTAMP:20260422T195502Z
SUMMARY:Temple Emanuel Sinai Shelanu
DESCRIPTION:Jewish Federation of Central Massachusetts\nCalendar\nhttps://j
 ewishcentralmass.org/calendar/18cal162\n\nTemple Emanuel Sinai Shelanu
DTSTART;TZID=America/New_York:20171026T180000
DTEND;TZID=America/New_York:20171026T200000
END:VEVENT
END:VCALENDAR
