BEGIN:VCALENDAR
PRODID:-//eluceo/ical//2.0/EN
VERSION:2.0
CALSCALE:GREGORIAN
BEGIN:VEVENT
UID:63bd1ed9bc84a67f820c4de38ba745df
DTSTAMP:20260422T063938Z
SUMMARY:Congregation B'nai Shalom Board Meeting
DESCRIPTION:Jewish Federation of Central Massachusetts\nCalendar\nhttps://j
 ewishcentralmass.org/calendar/18cal161\n\nCongregation B'nai Shalom Board 
 Meeting
DTSTART;TZID=America/New_York:20171025T193000
DTEND;TZID=America/New_York:20171025T210000
END:VEVENT
END:VCALENDAR
