BEGIN:VCALENDAR
PRODID:-//eluceo/ical//2.0/EN
VERSION:2.0
CALSCALE:GREGORIAN
BEGIN:VEVENT
UID:df9c3d9db9dda0b2709aca7073bb7282
DTSTAMP:20260420T194523Z
SUMMARY:Jewish Community Center Author Series
DESCRIPTION:Jewish Federation of Central Massachusetts\nCalendar\nhttps://j
 ewishcentralmass.org/calendar/18cal160\n\nJewish Community Center Author S
 eries
DTSTART;TZID=America/New_York:20171025T190000
DTEND;TZID=America/New_York:20171025T210000
END:VEVENT
END:VCALENDAR
