BEGIN:VCALENDAR
PRODID:-//eluceo/ical//2.0/EN
VERSION:2.0
CALSCALE:GREGORIAN
BEGIN:VEVENT
UID:d5f8d1a41552cfe96356470cd7d0fb3a
DTSTAMP:20260421T092833Z
SUMMARY:Jewish War Veterans Event
DESCRIPTION:Jewish Federation of Central Massachusetts\nCalendar\nhttps://j
 ewishcentralmass.org/calendar/18cal159\n\nJewish War Veterans Event
DTSTART;TZID=America/New_York:20171022T120000
DTEND;TZID=America/New_York:20171022T140000
END:VEVENT
END:VCALENDAR
