BEGIN:VCALENDAR
PRODID:-//eluceo/ical//2.0/EN
VERSION:2.0
CALSCALE:GREGORIAN
BEGIN:VEVENT
UID:b288401c84c646ba6e9441c44baa2715
DTSTAMP:20260422T044825Z
SUMMARY:Beth Tikvah Bingo Event
DESCRIPTION:Jewish Federation of Central Massachusetts\nCalendar\nhttps://j
 ewishcentralmass.org/calendar/18cal157\n\nBeth Tikvah Bingo Event
DTSTART;TZID=America/New_York:20171021T180000
DTEND;TZID=America/New_York:20171021T210000
END:VEVENT
END:VCALENDAR
