BEGIN:VCALENDAR
PRODID:-//eluceo/ical//2.0/EN
VERSION:2.0
CALSCALE:GREGORIAN
BEGIN:VEVENT
UID:dea1a5325e4fa936addd18c771cb40bb
DTSTAMP:20260423T060205Z
SUMMARY:Jewish Federation of Central MA YAD Shabbat
DESCRIPTION:Jewish Federation of Central Massachusetts\nCalendar\nhttps://j
 ewishcentralmass.org/calendar/18cal156\n\nJewish Federation of Central MA 
 YAD Shabbat
DTSTART;TZID=America/New_York:20171020T190000
DTEND;TZID=America/New_York:20171020T210000
END:VEVENT
END:VCALENDAR
