BEGIN:VCALENDAR
PRODID:-//eluceo/ical//2.0/EN
VERSION:2.0
CALSCALE:GREGORIAN
BEGIN:VEVENT
UID:cbaa876d1f26fa805b3490986db37961
DTSTAMP:20260423T015943Z
SUMMARY:Beth Tikvah Board Meeting
DESCRIPTION:Jewish Federation of Central Massachusetts\nCalendar\nhttps://j
 ewishcentralmass.org/calendar/18cal153\n\nBeth Tikvah Board Meeting
DTSTART;TZID=America/New_York:20171017T190000
DTEND;TZID=America/New_York:20171017T210000
END:VEVENT
END:VCALENDAR
