BEGIN:VCALENDAR
PRODID:-//eluceo/ical//2.0/EN
VERSION:2.0
CALSCALE:GREGORIAN
BEGIN:VEVENT
UID:823637ecb4a53e803525030cd192ada1
DTSTAMP:20260425T033112Z
SUMMARY:Jewish War Veterans Event
DESCRIPTION:Jewish Federation of Central Massachusetts\nCalendar\nhttps://j
 ewishcentralmass.org/calendar/18cal151\n\nJewish War Veterans Event
DTSTART;TZID=America/New_York:20171015T120000
DTEND;TZID=America/New_York:20171015T140000
END:VEVENT
END:VCALENDAR
