BEGIN:VCALENDAR
PRODID:-//eluceo/ical//2.0/EN
VERSION:2.0
CALSCALE:GREGORIAN
BEGIN:VEVENT
UID:46d8a206c8306f6499b06d4c9510f819
DTSTAMP:20260421T201719Z
SUMMARY:PJ Library @ Beth Tikvah
DESCRIPTION:Jewish Federation of Central Massachusetts\nCalendar\nhttps://j
 ewishcentralmass.org/calendar/18cal150\n\nPJ Library @ Beth Tikvah
DTSTART;TZID=America/New_York:20171015T093000
DTEND;TZID=America/New_York:20171015T110000
END:VEVENT
END:VCALENDAR
