BEGIN:VCALENDAR
PRODID:-//eluceo/ical//2.0/EN
VERSION:2.0
CALSCALE:GREGORIAN
BEGIN:VEVENT
UID:0d88d503d001f7a9ea55432b59d40d93
DTSTAMP:20260421T083217Z
SUMMARY:Congregation B'nai Shalom Kesher New member event
DESCRIPTION:Jewish Federation of Central Massachusetts\nCalendar\nhttps://j
 ewishcentralmass.org/calendar/18cal149\n\nCongregation B'nai Shalom Kesher
  New member event
DTSTART;TZID=America/New_York:20171015T090000
DTEND;TZID=America/New_York:20171015T110000
END:VEVENT
END:VCALENDAR
