BEGIN:VCALENDAR
PRODID:-//eluceo/ical//2.0/EN
VERSION:2.0
CALSCALE:GREGORIAN
BEGIN:VEVENT
UID:8230933f9f8b0ac48f5449377deff22d
DTSTAMP:20260423T073236Z
SUMMARY:Simchat Torah
DESCRIPTION:Jewish Federation of Central Massachusetts\nCalendar\nhttps://j
 ewishcentralmass.org/calendar/18cal148\n\nSimchat Torah
DTSTART;TZID=America/New_York:20171013T000100
DTEND;TZID=America/New_York:20171013T235900
END:VEVENT
END:VCALENDAR
