BEGIN:VCALENDAR
PRODID:-//eluceo/ical//2.0/EN
VERSION:2.0
CALSCALE:GREGORIAN
BEGIN:VEVENT
UID:2f8e1bf70188c59829984b17871a8efe
DTSTAMP:20260424T081225Z
SUMMARY:Shemini Atzeret
DESCRIPTION:Jewish Federation of Central Massachusetts\nCalendar\nhttps://j
 ewishcentralmass.org/calendar/18cal147\n\nShemini Atzeret
DTSTART;TZID=America/New_York:20171012T000100
DTEND;TZID=America/New_York:20171012T235900
END:VEVENT
END:VCALENDAR
