BEGIN:VCALENDAR
PRODID:-//eluceo/ical//2.0/EN
VERSION:2.0
CALSCALE:GREGORIAN
BEGIN:VEVENT
UID:380306007e830bc48c33f82816d42bf4
DTSTAMP:20260423T190049Z
SUMMARY:Congregation B'nai Shalom Pizza & Simchat Tour
DESCRIPTION:Jewish Federation of Central Massachusetts\nCalendar\nhttps://j
 ewishcentralmass.org/calendar/18cal146\n\nCongregation B'nai Shalom Pizza 
 & Simchat Tour
DTSTART;TZID=America/New_York:20171011T180000
DTEND;TZID=America/New_York:20171011T200000
END:VEVENT
END:VCALENDAR
