BEGIN:VCALENDAR
PRODID:-//eluceo/ical//2.0/EN
VERSION:2.0
CALSCALE:GREGORIAN
BEGIN:VEVENT
UID:12eacf20c0ee376784d4ee3ec0561d03
DTSTAMP:20260422T112942Z
SUMMARY:Temple Emanuel Sinai Board Meeting
DESCRIPTION:Jewish Federation of Central Massachusetts\nCalendar\nhttps://j
 ewishcentralmass.org/calendar/18cal145\n\nTemple Emanuel Sinai Board Meeti
 ng
DTSTART;TZID=America/New_York:20171009T193000
DTEND;TZID=America/New_York:20171009T210000
END:VEVENT
END:VCALENDAR
