BEGIN:VCALENDAR
PRODID:-//eluceo/ical//2.0/EN
VERSION:2.0
CALSCALE:GREGORIAN
BEGIN:VEVENT
UID:bd26af50d51bd10db71032ce8ce58d54
DTSTAMP:20260422T082149Z
SUMMARY:JFCM Latino-Jewish Film Festival
DESCRIPTION:Jewish Federation of Central Massachusetts\nCalendar\nhttps://j
 ewishcentralmass.org/calendar/18cal144\n\nJFCM Latino-Jewish Film Festival
DTSTART;TZID=America/New_York:20171008T160000
DTEND;TZID=America/New_York:20171008T190000
END:VEVENT
END:VCALENDAR
