BEGIN:VCALENDAR
PRODID:-//eluceo/ical//2.0/EN
VERSION:2.0
CALSCALE:GREGORIAN
BEGIN:VEVENT
UID:99a06ecca70077ec6e08d1776501c3d9
DTSTAMP:20260424T074404Z
SUMMARY:Beth Tikvah Family Service & Installation & Dinner
DESCRIPTION:Jewish Federation of Central Massachusetts\nCalendar\nhttps://j
 ewishcentralmass.org/calendar/18cal141\n\nBeth Tikvah Family Service & Ins
 tallation & Dinner
DTSTART;TZID=America/New_York:20171006T180000
DTEND;TZID=America/New_York:20171006T210000
END:VEVENT
END:VCALENDAR
