BEGIN:VCALENDAR
PRODID:-//eluceo/ical//2.0/EN
VERSION:2.0
CALSCALE:GREGORIAN
BEGIN:VEVENT
UID:5f9b6c77dc5f50d09fdfc69309853567
DTSTAMP:20260424T095340Z
SUMMARY:Sukkot
DESCRIPTION:Jewish Federation of Central Massachusetts\nCalendar\nhttps://j
 ewishcentralmass.org/calendar/18cal140\n\nSukkot
DTSTART;TZID=America/New_York:20171004T180000
DTEND;TZID=America/New_York:20171011T210000
END:VEVENT
END:VCALENDAR
