BEGIN:VCALENDAR
PRODID:-//eluceo/ical//2.0/EN
VERSION:2.0
CALSCALE:GREGORIAN
BEGIN:VEVENT
UID:7daff50bf248899c92cb3b2731b81720
DTSTAMP:20260422T103944Z
SUMMARY:Congregation B'nai Shalom Sukkot Service
DESCRIPTION:Jewish Federation of Central Massachusetts\nCalendar\nhttps://j
 ewishcentralmass.org/calendar/18cal138\n\nCongregation B'nai Shalom Sukkot
  Service
DTSTART;TZID=America/New_York:20171004T174500
DTEND;TZID=America/New_York:20171004T190000
END:VEVENT
END:VCALENDAR
