BEGIN:VCALENDAR
PRODID:-//eluceo/ical//2.0/EN
VERSION:2.0
CALSCALE:GREGORIAN
BEGIN:VEVENT
UID:c26c021d9c59b62c2e491300ac7657fd
DTSTAMP:20260423T142935Z
SUMMARY:Jewish Federation of Central Mass Board Meeting
DESCRIPTION:Jewish Federation of Central Massachusetts\nCalendar\nhttps://j
 ewishcentralmass.org/calendar/18cal137\n\nJewish Federation of Central Mas
 s Board Meeting
DTSTART;TZID=America/New_York:20171003T193000
DTEND;TZID=America/New_York:20171003T210000
END:VEVENT
END:VCALENDAR
