BEGIN:VCALENDAR
PRODID:-//eluceo/ical//2.0/EN
VERSION:2.0
CALSCALE:GREGORIAN
BEGIN:VEVENT
UID:807192aecf88a325dd2dfcc38616fe23
DTSTAMP:20260422T080744Z
SUMMARY:Yom Kippur
DESCRIPTION:Jewish Federation of Central Massachusetts\nCalendar\nhttps://j
 ewishcentralmass.org/calendar/18cal136\n\nYom Kippur
DTSTART;TZID=America/New_York:20170930T000100
DTEND;TZID=America/New_York:20170930T235900
END:VEVENT
END:VCALENDAR
