BEGIN:VCALENDAR
PRODID:-//eluceo/ical//2.0/EN
VERSION:2.0
CALSCALE:GREGORIAN
BEGIN:VEVENT
UID:e20725df68cb84bb2d514d38f4af4686
DTSTAMP:20260424T095330Z
SUMMARY:Congregation B'nai Shalom Board Meeting
DESCRIPTION:Jewish Federation of Central Massachusetts\nCalendar\nhttps://j
 ewishcentralmass.org/calendar/18cal133\n\nCongregation B'nai Shalom Board 
 Meeting
DTSTART;TZID=America/New_York:20170927T193000
DTEND;TZID=America/New_York:20170927T210000
END:VEVENT
END:VCALENDAR
