BEGIN:VCALENDAR
PRODID:-//eluceo/ical//2.0/EN
VERSION:2.0
CALSCALE:GREGORIAN
BEGIN:VEVENT
UID:a47c1a42034132095518ac10789bcde6
DTSTAMP:20260423T172551Z
SUMMARY:Temple Emanuel Sinai Picnic Brunch
DESCRIPTION:Jewish Federation of Central Massachusetts\nCalendar\nhttps://j
 ewishcentralmass.org/calendar/18cal132\n\nTemple Emanuel Sinai Picnic Brun
 ch
DTSTART;TZID=America/New_York:20170924T110000
DTEND;TZID=America/New_York:20170924T130000
END:VEVENT
END:VCALENDAR
