BEGIN:VCALENDAR
PRODID:-//eluceo/ical//2.0/EN
VERSION:2.0
CALSCALE:GREGORIAN
BEGIN:VEVENT
UID:e7fa3c2f24780b97dc8e5399eac53996
DTSTAMP:20260422T170752Z
SUMMARY:Jewish Federation of Central MA YAD Apple Picking
DESCRIPTION:Jewish Federation of Central Massachusetts\nCalendar\nhttps://j
 ewishcentralmass.org/calendar/18cal131\n\nJewish Federation of Central MA 
 YAD Apple Picking
DTSTART;TZID=America/New_York:20170924T100000
DTEND;TZID=America/New_York:20170924T150000
END:VEVENT
END:VCALENDAR
