BEGIN:VCALENDAR
PRODID:-//eluceo/ical//2.0/EN
VERSION:2.0
CALSCALE:GREGORIAN
BEGIN:VEVENT
UID:bd4b45659a76ceefe371358122516c60
DTSTAMP:20260422T233005Z
SUMMARY:Jewish Federation of Central MA YAD 1st Night Dinner
DESCRIPTION:Jewish Federation of Central Massachusetts\nCalendar\nhttps://j
 ewishcentralmass.org/calendar/18cal129\n\nJewish Federation of Central MA 
 YAD 1st Night Dinner
DTSTART;TZID=America/New_York:20170920T180000
DTEND;TZID=America/New_York:20170920T200000
END:VEVENT
END:VCALENDAR
