BEGIN:VCALENDAR
PRODID:-//eluceo/ical//2.0/EN
VERSION:2.0
CALSCALE:GREGORIAN
BEGIN:VEVENT
UID:f23b618f2822d12ca0835f4752505aa6
DTSTAMP:20260422T200730Z
SUMMARY:PJ Library @ Beth Tikvah
DESCRIPTION:Jewish Federation of Central Massachusetts\nCalendar\nhttps://j
 ewishcentralmass.org/calendar/18cal125\n\nPJ Library @ Beth Tikvah
DTSTART;TZID=America/New_York:20170917T093000
DTEND;TZID=America/New_York:20170917T110000
END:VEVENT
END:VCALENDAR
