BEGIN:VCALENDAR
PRODID:-//eluceo/ical//2.0/EN
VERSION:2.0
CALSCALE:GREGORIAN
BEGIN:VEVENT
UID:e0b6980ecd3dd70a7fb7891c1037e15c
DTSTAMP:20260423T115810Z
SUMMARY:Temple Emanuel Sinai First Day of Hebrew School
DESCRIPTION:Jewish Federation of Central Massachusetts\nCalendar\nhttps://j
 ewishcentralmass.org/calendar/18cal124\n\nTemple Emanuel Sinai First Day o
 f Hebrew School
DTSTART;TZID=America/New_York:20170916T090000
DTEND;TZID=America/New_York:20170916T120000
END:VEVENT
END:VCALENDAR
