BEGIN:VCALENDAR
PRODID:-//eluceo/ical//2.0/EN
VERSION:2.0
CALSCALE:GREGORIAN
BEGIN:VEVENT
UID:51b1d637fcee1d116dc1b05ab6aab55d
DTSTAMP:20260423T132432Z
SUMMARY:Temple Emanuel Sinai & Congregation Beth Israel Selichot Service
DESCRIPTION:Jewish Federation of Central Massachusetts\nCalendar\nhttps://j
 ewishcentralmass.org/calendar/18cal123\n\nTemple Emanuel Sinai & Congregat
 ion Beth Israel Selichot Service
DTSTART;TZID=America/New_York:20170916T080000
DTEND;TZID=America/New_York:20170916T100000
END:VEVENT
END:VCALENDAR
