BEGIN:VCALENDAR
PRODID:-//eluceo/ical//2.0/EN
VERSION:2.0
CALSCALE:GREGORIAN
BEGIN:VEVENT
UID:3fbfcaa49c9c620cb4d526431f58d18a
DTSTAMP:20260421T093919Z
SUMMARY:Beth Tikvah Board Meeting
DESCRIPTION:Jewish Federation of Central Massachusetts\nCalendar\nhttps://j
 ewishcentralmass.org/calendar/18cal121\n\nBeth Tikvah Board Meeting
DTSTART;TZID=America/New_York:20170913T190000
DTEND;TZID=America/New_York:20170913T210000
END:VEVENT
END:VCALENDAR
