BEGIN:VCALENDAR
PRODID:-//eluceo/ical//2.0/EN
VERSION:2.0
CALSCALE:GREGORIAN
BEGIN:VEVENT
UID:89167328d1f9a6d73a2799f8a1f147d9
DTSTAMP:20260423T075408Z
SUMMARY:Jewish Federation of Central Mass Annual Meeting
DESCRIPTION:Jewish Federation of Central Massachusetts\nCalendar\nhttps://j
 ewishcentralmass.org/calendar/18cal120\n\nJewish Federation of Central Mas
 s Annual Meeting
DTSTART;TZID=America/New_York:20170912T190000
DTEND;TZID=America/New_York:20170912T210000
END:VEVENT
END:VCALENDAR
