BEGIN:VCALENDAR
PRODID:-//eluceo/ical//2.0/EN
VERSION:2.0
CALSCALE:GREGORIAN
BEGIN:VEVENT
UID:e94160686acfeba6a95bf42e2867d18f
DTSTAMP:20260422T125707Z
SUMMARY:JFCM Black-Jewish Community Concert
DESCRIPTION:Jewish Federation of Central Massachusetts\nCalendar\nhttps://j
 ewishcentralmass.org/calendar/18cal117\n\nJFCM Black-Jewish Community Conc
 ert
DTSTART;TZID=America/New_York:20170910T160000
DTEND;TZID=America/New_York:20170910T190000
END:VEVENT
END:VCALENDAR
