BEGIN:VCALENDAR
PRODID:-//eluceo/ical//2.0/EN
VERSION:2.0
CALSCALE:GREGORIAN
BEGIN:VEVENT
UID:966eb3185c6780e91fde75763ed21934
DTSTAMP:20260423T212728Z
SUMMARY:Temple Emanuel Sinai Welcome Back Event
DESCRIPTION:Jewish Federation of Central Massachusetts\nCalendar\nhttps://j
 ewishcentralmass.org/calendar/18cal116\n\nTemple Emanuel Sinai Welcome Bac
 k Event
DTSTART;TZID=America/New_York:20170910T120000
DTEND;TZID=America/New_York:20170910T150000
END:VEVENT
END:VCALENDAR
