BEGIN:VCALENDAR
PRODID:-//eluceo/ical//2.0/EN
VERSION:2.0
CALSCALE:GREGORIAN
BEGIN:VEVENT
UID:39e6e9dc35ba2e9f6e07685d72f53b9c
DTSTAMP:20260422T101244Z
SUMMARY:Temple Emanuel Sinai Board Retreat
DESCRIPTION:Jewish Federation of Central Massachusetts\nCalendar\nhttps://j
 ewishcentralmass.org/calendar/18cal113\n\nTemple Emanuel Sinai Board Retre
 at
DTSTART;TZID=America/New_York:20170910T093000
DTEND;TZID=America/New_York:20170910T120000
END:VEVENT
END:VCALENDAR
