BEGIN:VCALENDAR
PRODID:-//eluceo/ical//2.0/EN
VERSION:2.0
CALSCALE:GREGORIAN
BEGIN:VEVENT
UID:93a029ba4f3457c95cf4e6a827b6cd21
DTSTAMP:20260424T095228Z
SUMMARY:JFCM Chaverim Dancing in the New Year
DESCRIPTION:Jewish Federation of Central Massachusetts\nCalendar\nhttps://j
 ewishcentralmass.org/calendar/18cal111\n\nJFCM Chaverim Dancing in the New
  Year
DTSTART;TZID=America/New_York:20170909T193000
DTEND;TZID=America/New_York:20170909T220000
END:VEVENT
END:VCALENDAR
