BEGIN:VCALENDAR
PRODID:-//eluceo/ical//2.0/EN
VERSION:2.0
CALSCALE:GREGORIAN
BEGIN:VEVENT
UID:c03625089c6ac5a907e78bc2d62e0c9c
DTSTAMP:20260422T094103Z
SUMMARY:Labor Day
DESCRIPTION:Jewish Federation of Central Massachusetts\nCalendar\nhttps://j
 ewishcentralmass.org/calendar/18cal110\n\nLabor Day
DTSTART;TZID=America/New_York:20170904T000100
DTEND;TZID=America/New_York:20170904T235900
END:VEVENT
END:VCALENDAR
