BEGIN:VCALENDAR
PRODID:-//eluceo/ical//2.0/EN
VERSION:2.0
CALSCALE:GREGORIAN
BEGIN:VEVENT
UID:be052125c23c9ecf3b57a1b44f03b9ab
DTSTAMP:20260422T184728Z
SUMMARY:Congregation B'nai Shalom Camp Shabbat
DESCRIPTION:Jewish Federation of Central Massachusetts\nCalendar\nhttps://j
 ewishcentralmass.org/calendar/18cal109\n\nCongregation B'nai Shalom Camp S
 habbat
DTSTART;TZID=America/New_York:20170901T184500
DTEND;TZID=America/New_York:20170901T200000
END:VEVENT
END:VCALENDAR
