BEGIN:VCALENDAR
PRODID:-//eluceo/ical//2.0/EN
VERSION:2.0
CALSCALE:GREGORIAN
BEGIN:VEVENT
UID:debdcb2d6384cf0f3dade3661d7dfaf1
DTSTAMP:20260423T212912Z
SUMMARY:Temple Emanuel Sinai Open House
DESCRIPTION:Jewish Federation of Central Massachusetts\nCalendar\nhttps://j
 ewishcentralmass.org/calendar/18cal108\n\nTemple Emanuel Sinai Open House
DTSTART;TZID=America/New_York:20170831T180000
DTEND;TZID=America/New_York:20170831T200000
END:VEVENT
END:VCALENDAR
