BEGIN:VCALENDAR
PRODID:-//eluceo/ical//2.0/EN
VERSION:2.0
CALSCALE:GREGORIAN
BEGIN:VEVENT
UID:154c120cce2671c65cd07567dabf93f5
DTSTAMP:20260421T113421Z
SUMMARY:Jewish Community Center Tanglewood Bus Tour
DESCRIPTION:Jewish Federation of Central Massachusetts\nCalendar\nhttps://j
 ewishcentralmass.org/calendar/18cal103\n\nJewish Community Center Tanglewo
 od Bus Tour
DTSTART;TZID=America/New_York:20170806T090000
DTEND;TZID=America/New_York:20170806T180000
END:VEVENT
END:VCALENDAR
