BEGIN:VCALENDAR
PRODID:-//eluceo/ical//2.0/EN
VERSION:2.0
CALSCALE:GREGORIAN
BEGIN:VEVENT
UID:a00a4e8cae59f8dbc47119a0c0720154
DTSTAMP:20260422T165718Z
SUMMARY:Congregation B'nai Shalom Open House
DESCRIPTION:Jewish Federation of Central Massachusetts\nCalendar\nhttps://j
 ewishcentralmass.org/calendar/18cal102\n\nCongregation B'nai Shalom Open H
 ouse
DTSTART;TZID=America/New_York:20170804T184500
DTEND;TZID=America/New_York:20170804T210000
END:VEVENT
END:VCALENDAR
