BEGIN:VCALENDAR
PRODID:-//eluceo/ical//2.0/EN
VERSION:2.0
CALSCALE:GREGORIAN
BEGIN:VEVENT
UID:206302954e4cff35af85984ec5f35032
DTSTAMP:20260423T055959Z
SUMMARY:Yom Ha'atzmaut
DESCRIPTION:Jewish Federation of Central Massachusetts\nCalendar\nhttps://j
 ewishcentralmass.org/calendar/17cal335\n\nYom Ha'atzmaut
DTSTART;TZID=America/New_York:20170502T000100
DTEND;TZID=America/New_York:20170502T235900
END:VEVENT
END:VCALENDAR
