BEGIN:VCALENDAR
PRODID:-//eluceo/ical//2.0/EN
VERSION:2.0
CALSCALE:GREGORIAN
BEGIN:VEVENT
UID:9c19b8e1719a7220eb999ae89d2dabd2
DTSTAMP:20260420T203013Z
SUMMARY:Worcester Community Hebrew High School Graduation
DESCRIPTION:Jewish Federation of Central Massachusetts\nCalendar\nhttps://j
 ewishcentralmass.org/calendar/17cal334\n\nWorcester Community Hebrew High 
 School Graduation
DTSTART;TZID=America/New_York:20170510T190000
DTEND;TZID=America/New_York:20170510T210000
END:VEVENT
END:VCALENDAR
