BEGIN:VCALENDAR
PRODID:-//eluceo/ical//2.0/EN
VERSION:2.0
CALSCALE:GREGORIAN
BEGIN:VEVENT
UID:12295f6eea54729e12f85d3efab15ae4
DTSTAMP:20260423T021924Z
SUMMARY:Worcester Community Hebrew High School 1st Day of School
DESCRIPTION:Jewish Federation of Central Massachusetts\nCalendar\nhttps://j
 ewishcentralmass.org/calendar/17cal333\n\nWorcester Community Hebrew High 
 School 1st Day of School
DTSTART;TZID=America/New_York:20160921T190000
DTEND;TZID=America/New_York:20160921T190000
END:VEVENT
END:VCALENDAR
