BEGIN:VCALENDAR
PRODID:-//eluceo/ical//2.0/EN
VERSION:2.0
CALSCALE:GREGORIAN
BEGIN:VEVENT
UID:9dd7dcdca4069ed7adddbfa59012cba1
DTSTAMP:20260423T010539Z
SUMMARY:Tu B'Shevat
DESCRIPTION:Jewish Federation of Central Massachusetts\nCalendar\nhttps://j
 ewishcentralmass.org/calendar/17cal331\n\nTu B'Shevat
DTSTART;TZID=America/New_York:20170211T000100
DTEND;TZID=America/New_York:20170211T235900
END:VEVENT
END:VCALENDAR
